BEGIN:VCALENDAR
VERSION:2.0
PRODID:spatie/icalendar-generator
DESCRIPTION:Events from Piscataquis Dems
X-WR-CALDESC:Events from Piscataquis Dems
REFRESH-INTERVAL;VALUE=DURATION:PT1440M
X-PUBLISHED-TTL:PT1440M
BEGIN:VTIMEZONE
TZID:Etc/GMT-4
BEGIN:STANDARD
DTSTART:20250708T100000Z
TZOFFSETFROM:+0400
TZOFFSETTO:+0400
END:STANDARD
END:VTIMEZONE
BEGIN:VTIMEZONE
TZID:UTC
BEGIN:STANDARD
DTSTART:20250724T131535Z
TZOFFSETFROM:+0000
TZOFFSETTO:+0000
END:STANDARD
END:VTIMEZONE
BEGIN:VEVENT
UID:112-72
DTSTAMP:20260420T131535Z
SUMMARY:PCDC County Committee Meeting to Elect Officers
LOCATION:GUILFORD MEMORIAL LIBRARY 4 Library Street  Guilford Maine
ORGANIZER;CN=Admin:MAILTO:10digit@gmail.com
DTSTART;TZID=Etc/GMT-4:20260404T100000
DTEND;TZID=Etc/GMT-4:20260404T120000
X-ALT-DESC;FMTTYPE=TEXT/HTML:VACANCIES: CHAIR\, CO-CHAIRS\, SECRETARY\, SW 
 REGION &amp;amp\; COMMITTEE MEMBERS  NEEDED
CATEGORIES:County Committee
URL;VALUE=URI:https://piscataquisdems.org/mc-events/pcdc-county-committee-m
 eeting-to-elect-officers-2/
METHOD:PUBLISH
END:VEVENT
END:VCALENDAR